BEGIN:VCALENDAR
VERSION:2.0
PRODID:-//wp-events-plugin.com//6.6.4.4//EN
TZID:Europe/Zurich
X-WR-TIMEZONE:Europe/Zurich
BEGIN:VEVENT
UID:48@hubplus.ch
DTSTART;TZID=Europe/Zurich:20261015T083000
DTEND;TZID=Europe/Zurich:20261015T133000
DTSTAMP:20260420T200126Z
URL:https://hubplus.ch/events/formation-continue-evolutions-reglementaires
 -conformite/
SUMMARY:Formation Continue : Évolutions réglementaires & conformité
DESCRIPTION:JEUDI 15 OCTOBRE 2026 : Formation Continue Évolutions régleme
 ntaires &amp\; conformité \n\n8h30  -  12h30 &amp\; Networking\n\nNous
  avons le plaisir de vous inviter à notre demi-journée de formation cont
 inue spécialement conçue pour les gestionnaires de fortune indépendants
  ainsi que pour les professionnels du secteur financier souhaitant mettre 
 à jour leurs connaissances.\n\nCette deuxième session portera sur les ac
 tualités réglementaires et les enjeux de conformité.\n\nLes participant
 s approfondiront notamment :\n\n 	Les dernières évolutions de la LSFin e
 t de la LEFin.\n 	Les obligations en matière de transparence\, documentat
 ion et enregistrement.\n 	Les développements récents en matière de LBA\
 , y compris les risques liés aux crypto-actifs et à la finance décentra
 lisée.\n 	Les attentes actuelles de la FINMA\n\nPROGRAMME\n\n08h30 – 12
 h30        Formation Continue Évolutions réglementaires &amp\; confo
 rmité (4h)\n12h30 – 13h30         Networking\n\nLieu         
                   En présentiel\, l’endroit sera communiqué p
 rochainement\n\nIntervenants:       Stéphane Hofer\, Partner\, de la
  société InCompliance\, Membre de HUB+\n\nGueorgui Gotzev\, Partner\, de
  l’Etude Kohler Gotzev\, Membre de HUB+\n\nTARIF               
         CHF 350 pour les membres HUB+ /  CHF 550 pour les non-membres
 \n\nUn certificat sera délivré à l’issue du module\n\nInscriptions  
          avant le 13 octobre 2026\n\nMerci d’indiquer le nom du/des
  participant(s) pour l’envoi de la facture.\n\nNous nous réjouissons de
  votre presence!\n\nHUB+ FORMATION CONTINUE - 15 OCTOBRE 2026 - v1
ATTACH;FMTTYPE=image/jpeg:https://hubplus.ch/wp-content/uploads/2026/04/HU
 B-FORMATION-CONTINUE-15-OCTOBRE-2026-v1-pdf.jpg
CATEGORIES:Formations
LOCATION:Endroit communiqué ultérieurement\, Rue Versonnex 7 ou autre lie
 u\, Genève\, 1207\, Suisse
X-APPLE-STRUCTURED-LOCATION;VALUE=URI;X-ADDRESS=Rue Versonnex 7 ou autre li
 eu\, Genève\, 1207\, Suisse;X-APPLE-RADIUS=100;X-TITLE=Endroit communiqu
 é ultérieurement:geo:0,0
END:VEVENT
BEGIN:VTIMEZONE
TZID:Europe/Zurich
X-LIC-LOCATION:Europe/Zurich
BEGIN:DAYLIGHT
DTSTART:20260329T030000
TZOFFSETFROM:+0100
TZOFFSETTO:+0200
TZNAME:CEST
END:DAYLIGHT
END:VTIMEZONE
END:VCALENDAR