BEGIN:VCALENDAR
VERSION:2.0
PRODID:-//wp-events-plugin.com//6.6.4.4//EN
TZID:Europe/Zurich
X-WR-TIMEZONE:Europe/Zurich
BEGIN:VEVENT
UID:47@hubplus.ch
DTSTART;TZID=Europe/Zurich:20260618T080000
DTEND;TZID=Europe/Zurich:20260618T133000
DTSTAMP:20260420T200258Z
URL:https://hubplus.ch/events/formation-continue-planification-patrimonial
 e-et-fiscalite/
SUMMARY:Formation Continue : Planification Patrimoniale et Fiscalité
DESCRIPTION:JEUDI 18 JUIN 2026 : Formation Continue Planification Patrimoni
 ale et Fiscalité              \n\n8h30  -  12h30 &amp\; Network
 ing\n\nNous avons le plaisir de vous inviter à notre demi-journée de for
 mation continue spécialement conçue pour les gestionnaires de fortune in
 dépendants ainsi que pour les professionnels du secteur financier souhait
 ant mettre à jour leurs connaissances.\n\nCette première session sera co
 nsacrée aux stratégies patrimoniales et à l’optimisation fiscale.\n\n
 Elle visera à renforcer la capacité des gérants à structurer des solut
 ions cohérentes\, durables et conformes aux exigences réglementaires\, e
 n abordant notamment :\n\n 	Les fondamentaux de la planification patrimoni
 ale.\n 	Les enjeux fiscaux suisses et transfrontaliers.\n 	Les mécanismes
  de transmission et de structuration pour entrepreneurs et familles intern
 ationales.\n 	Les bonnes pratiques de collaboration avec fiscalistes et ex
 perts juridiques.\n\nPROGRAMME\n\n08h30 – 12h30         Formation C
 ontinue: Planification Patrimoniale et Fiscalité (4h)\n12h30 – 13h30  
         Networking\n\nLieu                            En
  présentiel\, l’endroit sera communiqué prochainement\n\nIntervenant 
              Anthony Touboul\, Fiscaliste LL.M. Tax\, PBM Avocats\, 
 Membre de HUB+\n\nTarif                          CHF 350 pour
  les membres HUB+  /  CHF 550 pour les non-membres\n\nUn certificat sera
  délivré à l’issue du module\n\nINSCRIPTIONS       RSVP avant le 
 16 juin 2026\n\nMerci d’indiquer le nom du/des participant(s) pour l’e
 nvoi de la facture.\n\nNous nous réjouissons de votre presence!\n\nHUB+ F
 ORMATION CONTINUE - 18 JUIN 2026 - v1
ATTACH;FMTTYPE=image/jpeg:https://hubplus.ch/wp-content/uploads/2026/04/HU
 B-FORMATION-CONTINUE-18-JUIN-2026-v1-pdf.jpg
CATEGORIES:Formations
LOCATION:Endroit communiqué ultérieurement\, Rue Versonnex 7 ou autre lie
 u\, Genève\, 1207\, Suisse
X-APPLE-STRUCTURED-LOCATION;VALUE=URI;X-ADDRESS=Rue Versonnex 7 ou autre li
 eu\, Genève\, 1207\, Suisse;X-APPLE-RADIUS=100;X-TITLE=Endroit communiqu
 é ultérieurement:geo:0,0
END:VEVENT
BEGIN:VTIMEZONE
TZID:Europe/Zurich
X-LIC-LOCATION:Europe/Zurich
BEGIN:DAYLIGHT
DTSTART:20260329T030000
TZOFFSETFROM:+0100
TZOFFSETTO:+0200
TZNAME:CEST
END:DAYLIGHT
END:VTIMEZONE
END:VCALENDAR